BEGIN:VCALENDAR
VERSION:2.0
PRODID:-//Lucia Hoxha - ECPv6.15.20//NONSGML v1.0//EN
CALSCALE:GREGORIAN
METHOD:PUBLISH
X-ORIGINAL-URL:https://luciahoxha.com
X-WR-CALDESC:Events for Lucia Hoxha
REFRESH-INTERVAL;VALUE=DURATION:PT1H
X-Robots-Tag:noindex
X-PUBLISHED-TTL:PT1H
BEGIN:VTIMEZONE
TZID:UTC
BEGIN:STANDARD
TZOFFSETFROM:+0000
TZOFFSETTO:+0000
TZNAME:UTC
DTSTART:20160101T000000
END:STANDARD
END:VTIMEZONE
BEGIN:VEVENT
DTSTART;TZID=UTC:20220217T183000
DTEND;TZID=UTC:20220217T193000
DTSTAMP:20260426T034003
CREATED:20220216T200438Z
LAST-MODIFIED:20220818T163635Z
UID:8909-1645122600-1645126200@luciahoxha.com
SUMMARY:FREE MASTERCLASS: How to Create Deeper Connection with your Partner while facing Infertility
DESCRIPTION:REGISTER HERE: https://www.subscribepage.com/webinarfeb2022
URL:https://luciahoxha.com/event/free-masterclass-how-to-create-deeper-connection-with-your-partner-while-facing-infertility/
LOCATION:Zoom
CATEGORIES:Webinar
END:VEVENT
BEGIN:VEVENT
DTSTART;TZID=UTC:20211209T183000
DTEND;TZID=UTC:20211209T193000
DTSTAMP:20260426T034003
CREATED:20211201T005851Z
LAST-MODIFIED:20211201T005852Z
UID:8631-1639074600-1639078200@luciahoxha.com
SUMMARY:Webinar - How To Regain Faith And Your Self-Worth When Your Baby Takes Time To Come
DESCRIPTION:Learn how to keep faith and stay not just hopeful and positive\, but also powerful in every situation life presents you with!\n  \nDiscover the 3 secrets for improving your day-to-day life so that you’re living the best one possible during your unique journey towards motherhood. Allow yourself to see the light again where you have only been seeing clouds. Allow yourself to rediscover authentic joy felt from within.\n  \nRegister for FREE here: https://www.subscribepage.com/webinar129
URL:https://luciahoxha.com/event/webinar-how-to-regain-faith-and-your-self-worth-when-your-baby-takes-time-to-come/
CATEGORIES:Webinar
ATTACH;FMTTYPE=image/png:https://luciahoxha.com/wp-content/uploads/2021/12/4e18b4c407d27d0fa3a1c523b69d3195a11852a4.png
END:VEVENT
BEGIN:VEVENT
DTSTART;VALUE=DATE:20190704
DTEND;VALUE=DATE:20190710
DTSTAMP:20260426T034003
CREATED:20180727T191843Z
LAST-MODIFIED:20190213T164404Z
UID:7913-1562198400-1562716799@luciahoxha.com
SUMMARY:Transformational Life Coaching & Yoga Retreat in Slovakia
DESCRIPTION:
URL:https://luciahoxha.com/event/transformational-life-coaching-yoga-retreat-in-slovakia-2/
CATEGORIES:Yoga Retreat
END:VEVENT
BEGIN:VEVENT
DTSTART;VALUE=DATE:20190620
DTEND;VALUE=DATE:20190626
DTSTAMP:20260426T034003
CREATED:20180727T191810Z
LAST-MODIFIED:20190213T164417Z
UID:7911-1560988800-1561507199@luciahoxha.com
SUMMARY:Transformational Life Coaching & Yoga Retreat in Slovakia
DESCRIPTION:
URL:https://luciahoxha.com/event/transformational-life-coaching-yoga-retreat-in-slovakia/
CATEGORIES:Yoga Retreat
END:VEVENT
BEGIN:VEVENT
DTSTART;VALUE=DATE:20190131
DTEND;VALUE=DATE:20190206
DTSTAMP:20260426T034003
CREATED:20180727T191630Z
LAST-MODIFIED:20180727T191645Z
UID:7906-1548892800-1549411199@luciahoxha.com
SUMMARY:[:en]Winter Yoga Retreat with Skiing Adventure[:]
DESCRIPTION:
URL:https://luciahoxha.com/event/winter-yoga-retreat-with-skiing-adventure/
CATEGORIES:Yoga Retreat
END:VEVENT
BEGIN:VEVENT
DTSTART;VALUE=DATE:20181019
DTEND;VALUE=DATE:20181022
DTSTAMP:20260426T034003
CREATED:20180917T181218Z
LAST-MODIFIED:20180917T181337Z
UID:8054-1539907200-1540166399@luciahoxha.com
SUMMARY:OM Yoga Show with Gaudium Retreats & Lucia Hoxha
DESCRIPTION:Come and join us at this amazing celebration of yoga\, well being and harmony. \nCoaching Workshop: Empower Your Life – Choose Your Future with Lucia Hoxha\nFriday 19th October\, Lecture Area\, 12.30 – 13.00 o’clock\nAn opportunity to have a look at all areas of your life\, create new possibilities and ways to fulfil on them\, to support you further in what is most important in your life.\nhttps://london.omyogashow.com/event-area/open-lecture-stage/?friday \nAroma Yoga with Essential Oils with Lucia Hoxha\nSaturday 20th October\, Actiph Water Open Class\, 13.30 – 14.00 o’clock\nJoin us for a sensual multi-sensory experience of yoga combined with meditation and healing plant essences – a journey into deeper embodiment by bringing the gifts of the Earth onto your yoga mat.\nhttps://london.omyogashow.com/event-area/hero-open-class/?saturday \nAll visitors to the OM Yoga Show are able to visit the Mind Body Soul Experience\, taking place in a neighbouring hall\, for free. Discover the best in natural health and spiritual guidance! \n10% discount on all Gaudium Retreats booked at OM Yoga Show \nEnter our draw for free to win one of our forthcoming Gaudium Retreats. \nAnd as always\, remember to SMILE and LOVE on.
URL:https://luciahoxha.com/event/om-yoga-show-with-gaudium-retreats-lucia-hoxha/
LOCATION:Alexandra Palace\, Alexandra Palace Way\, London\, United Kingdom
CATEGORIES:Conference
ATTACH;FMTTYPE=image/jpeg:https://luciahoxha.com/wp-content/uploads/2018/09/LH-Om-Yoga-1.jpg
END:VEVENT
BEGIN:VEVENT
DTSTART;VALUE=DATE:20180607
DTEND;VALUE=DATE:20180613
DTSTAMP:20260426T034003
CREATED:20180301T193822Z
LAST-MODIFIED:20180301T193822Z
UID:7550-1528329600-1528847999@luciahoxha.com
SUMMARY:Gaudium Retreat
DESCRIPTION:Sometimes in life we need go back to basics to realise which way to go forward and what is truly important to us. \nBringing you with us to this yoga retreat\, introducing you to the beauty that comes from finding Your Version of Peace of Mind from which you can create your future life is our aim. \nGaudium means ‘Joy’. \nThis 5 day experience is designed for you\, so you can ‘come back’ and enjoy the times when there was nothing\, but joy\, playfulness and ease being natural part of your life as from here\, anything is possible❣ \n  \nLEARN MORE AND REGISTER
URL:https://luciahoxha.com/event/gaudium-retreat/
LOCATION:Hotel Marlene\, Oscadnica\, Velka Raca\, Slovakia (Slovak Republic)
CATEGORIES:Yoga Retreat
ATTACH;FMTTYPE=image/jpeg:https://luciahoxha.com/wp-content/uploads/2018/03/LH-Gaudium-1.jpg
END:VEVENT
BEGIN:VEVENT
DTSTART;TZID=UTC:20180506T140000
DTEND;TZID=UTC:20180506T160000
DTSTAMP:20260426T034003
CREATED:20180308T200405Z
LAST-MODIFIED:20180308T200405Z
UID:7565-1525615200-1525622400@luciahoxha.com
SUMMARY:Aroma Yoga
DESCRIPTION:REGISTER – Members of Fitness First\n\n\n\nREGISTER – Non-Members
URL:https://luciahoxha.com/event/aroma-yoga-may-6/
LOCATION:Fitness First\, A\, Eastand Aprt. Avenell Road\,\, London\, N5 1FE\, United Kingdom
CATEGORIES:Aroma Yoga
ATTACH;FMTTYPE=image/jpeg:https://luciahoxha.com/wp-content/uploads/2018/02/Lucia-AromaYoga-1.jpg
END:VEVENT
BEGIN:VEVENT
DTSTART;TZID=UTC:20180422T140000
DTEND;TZID=UTC:20180422T160000
DTSTAMP:20260426T034003
CREATED:20180228T160247Z
LAST-MODIFIED:20180328T192516Z
UID:7524-1524405600-1524412800@luciahoxha.com
SUMMARY:Aroma Yoga
DESCRIPTION:REGISTER – Members of Fitness First\n\n\n\nREGISTER – Non-Members
URL:https://luciahoxha.com/event/aroma-yoga-5/
LOCATION:Fitness First\, A\, Eastand Aprt. Avenell Road\,\, London\, N5 1FE\, United Kingdom
CATEGORIES:Aroma Yoga
ATTACH;FMTTYPE=image/jpeg:https://luciahoxha.com/wp-content/uploads/2018/02/Lucia-AromaYoga-1.jpg
END:VEVENT
BEGIN:VEVENT
DTSTART;TZID=UTC:20180407T100000
DTEND;TZID=UTC:20180407T160000
DTSTAMP:20260426T034003
CREATED:20180312T021607Z
LAST-MODIFIED:20180321T001820Z
UID:7570-1523095200-1523116800@luciahoxha.com
SUMMARY:Heartfulness Transformation Day
DESCRIPTION:Join us for the World Transformation Event on Saturday 7th April.  160 countries all over the world where we will be hosting it in London. \nI have a privilege to be chosen to be one of the key speakers and so I know this one will be very special and you will be looked after❣️ \nAt this event through heartfulness we offer simple and practical approach to meditation and relaxation which is easy to learn and integrate into your daily life.  The emphasis is on the needs and experience of the meditator. \nHeartfulness can help you develop: \n\nbetter relaxation and sleep\nimproved focus and attention\na greater sense of being present in the moment\na more peaceful\, calm and balanced life\nan individual meditation practice\na deeper connection to your own creativity and intuition\n\nThis is just few bullet points\, so we invite you to experience Heartfulness for yourself❣️ \n  \nTransmission\nHeartfulness Meditation is a way of uniting heart and mind and is achieved with the aid of yogic transmission\, a unique feature of the method. \nTransmission can be described as a subtle energy that helps us to focus to shift our attention away from the outer world and to go deeper into our inner world. It can best be understood through direct experience. \nWe invite you to experience the unique benefits of this practice❣️ \n  \nWhy Meditate?\nModern life makes heavy demands on us and we often feel rushed and pressured.  Through meditation we learn to create a place of calm and peace inside ourselves; we train our minds to become still.  Just as a tree with deep roots is able to withstand strong winds\, meditation increases our capacity to cope with the challenges of our busy lives. \n  \nWhy Hearfulness?\nIn Heartfulness we meditate on the heart\, bringing our focus and attention to the place where we connect with our feelings.  As we tune into our hearts through regular meditation\, we find ourselves more in touch with our feelings\, more compassionate\, less judgmental\, better able to understand ourselves and other people. \nOur intuitive understanding grows so that our decisions are guided by a deeper sense of what is really right for us and this in turn gives us greater confidence in ourselves. \n  \nHow to experience Hearfulness and much and I mean it – much more?\nJoin us for the all day event on 7th April in Stratford ? \nTake my word for it – it will be experience that you will deeply cherish in your heart for the rest of your life and we will even feed you with yummy home made food made…yes\, with lots of love. \n\nBOOK NOW\n\n  \n  \nFor more information\, check: www.heartfulness-uk.org
URL:https://luciahoxha.com/event/heartfulness-transformation-day/
LOCATION:Heartfulness Meditation Centre\, Stratford\, 7 Rick Roberts Way\, E15 2FR\, United Kingdom
ATTACH;FMTTYPE=image/jpeg:https://luciahoxha.com/wp-content/uploads/2018/03/LH-TFT.jpg
END:VEVENT
BEGIN:VEVENT
DTSTART;TZID=UTC:20180304T140000
DTEND;TZID=UTC:20180304T160000
DTSTAMP:20260426T034003
CREATED:20180202T154848Z
LAST-MODIFIED:20180202T154848Z
UID:7485-1520172000-1520179200@luciahoxha.com
SUMMARY:Aroma Yoga
DESCRIPTION:REGISTER – Members of Fitness First\n\n\n\nREGISTER – Non-Members
URL:https://luciahoxha.com/event/aroma-yoga-4/
LOCATION:Fitness First\, A\, Eastand Aprt. Avenell Road\,\, London\, N5 1FE\, United Kingdom
CATEGORIES:Aroma Yoga
END:VEVENT
BEGIN:VEVENT
DTSTART;TZID=UTC:20180204T140000
DTEND;TZID=UTC:20180204T160000
DTSTAMP:20260426T034003
CREATED:20171128T133946Z
LAST-MODIFIED:20171205T143153Z
UID:7379-1517752800-1517760000@luciahoxha.com
SUMMARY:Aroma Yoga
DESCRIPTION:REGISTER – Members of Fitness First\n\n\n\nREGISTER – Non-Members
URL:https://luciahoxha.com/event/aroma-yoga-2-4-3-2/
LOCATION:Fitness First\, A\, Eastand Aprt. Avenell Road\,\, London\, N5 1FE\, United Kingdom
CATEGORIES:Aroma Yoga
END:VEVENT
BEGIN:VEVENT
DTSTART;VALUE=DATE:20180113
DTEND;VALUE=DATE:20180121
DTSTAMP:20260426T034003
CREATED:20170622T194714Z
LAST-MODIFIED:20171023T022321Z
UID:7183-1515801600-1516492799@luciahoxha.com
SUMMARY:Yoga Retreat
DESCRIPTION:We are happy to bring you a bespoke package within one of the most beautiful valleys in Slovakia. \n   \n  \nContact: info@yogaeternity.com
URL:https://luciahoxha.com/event/yoga-retreat-january-18/
CATEGORIES:Yoga Retreat
END:VEVENT
BEGIN:VEVENT
DTSTART;TZID=UTC:20171203T140000
DTEND;TZID=UTC:20171203T160000
DTSTAMP:20260426T034003
CREATED:20170623T020012Z
LAST-MODIFIED:20171101T230647Z
UID:7257-1512309600-1512316800@luciahoxha.com
SUMMARY:Aroma Yoga
DESCRIPTION:REGISTER – Members of Fitness First\n\n\n\nREGISTER – Non-Members
URL:https://luciahoxha.com/event/aroma-yoga-2-4-3/
LOCATION:Fitness First\, A\, Eastand Aprt. Avenell Road\,\, London\, N5 1FE\, United Kingdom
CATEGORIES:Aroma Yoga
END:VEVENT
BEGIN:VEVENT
DTSTART;TZID=UTC:20171020T173000
DTEND;TZID=UTC:20171020T193000
DTSTAMP:20260426T034003
CREATED:20171006T185545Z
LAST-MODIFIED:20171012T193934Z
UID:7289-1508520600-1508527800@luciahoxha.com
SUMMARY:Aroma Yoga
DESCRIPTION:Booking Number: 020 7422 6400
URL:https://luciahoxha.com/event/aromayoga-eventvon-2/
LOCATION:Virgin Active Bank
CATEGORIES:Aroma Yoga
END:VEVENT
BEGIN:VEVENT
DTSTART;TZID=UTC:20170903T140000
DTEND;TZID=UTC:20170903T163000
DTSTAMP:20260426T034003
CREATED:20170623T015811Z
LAST-MODIFIED:20170623T015811Z
UID:7251-1504447200-1504456200@luciahoxha.com
SUMMARY:Aroma Yoga
DESCRIPTION:click here for more information and to register
URL:https://luciahoxha.com/event/aroma-yoga-2-4/
LOCATION:Fitness First\, A\, Eastand Aprt. Avenell Road\,\, London\, N5 1FE\, United Kingdom
CATEGORIES:Aroma Yoga
END:VEVENT
BEGIN:VEVENT
DTSTART;TZID=UTC:20170813T101500
DTEND;TZID=UTC:20170813T111500
DTSTAMP:20260426T034003
CREATED:20170622T193730Z
LAST-MODIFIED:20170803T142024Z
UID:7177-1502619300-1502622900@luciahoxha.com
SUMMARY:Yoga Walk
DESCRIPTION:Save the Date
URL:https://luciahoxha.com/event/yoga-walk/
CATEGORIES:YogaWalk
END:VEVENT
BEGIN:VEVENT
DTSTART;TZID=UTC:20170806T140000
DTEND;TZID=UTC:20170806T163000
DTSTAMP:20260426T034003
CREATED:20170623T015714Z
LAST-MODIFIED:20170623T015714Z
UID:7249-1502028000-1502037000@luciahoxha.com
SUMMARY:Aroma Yoga
DESCRIPTION:click here for more information and to register
URL:https://luciahoxha.com/event/aroma-yoga-2-3/
LOCATION:Fitness First\, A\, Eastand Aprt. Avenell Road\,\, London\, N5 1FE\, United Kingdom
CATEGORIES:Aroma Yoga
END:VEVENT
BEGIN:VEVENT
DTSTART;TZID=UTC:20170723T140000
DTEND;TZID=UTC:20170723T163000
DTSTAMP:20260426T034003
CREATED:20170623T015621Z
LAST-MODIFIED:20170623T015621Z
UID:7247-1500818400-1500827400@luciahoxha.com
SUMMARY:Aroma Yoga
DESCRIPTION:click here for more information and to register
URL:https://luciahoxha.com/event/aroma-yoga-2-2/
LOCATION:Fitness First\, A\, Eastand Aprt. Avenell Road\,\, London\, N5 1FE\, United Kingdom
CATEGORIES:Aroma Yoga
END:VEVENT
BEGIN:VEVENT
DTSTART;VALUE=DATE:20170709
DTEND;VALUE=DATE:20170710
DTSTAMP:20260426T034003
CREATED:20170622T193514Z
LAST-MODIFIED:20170623T015457Z
UID:7163-1499558400-1499644799@luciahoxha.com
SUMMARY:YogaWalk
DESCRIPTION:Click here for more information and to register.
URL:https://luciahoxha.com/event/yogawalk/
LOCATION:Lavender Fields\, United Kingdom
CATEGORIES:YogaWalk
END:VEVENT
BEGIN:VEVENT
DTSTART;TZID=UTC:20170702T140000
DTEND;TZID=UTC:20170702T163000
DTSTAMP:20260426T034003
CREATED:20170623T015304Z
LAST-MODIFIED:20170623T015304Z
UID:7244-1499004000-1499013000@luciahoxha.com
SUMMARY:Aroma Yoga
DESCRIPTION:click here for more information and to register
URL:https://luciahoxha.com/event/aroma-yoga-2/
LOCATION:Fitness First\, A\, Eastand Aprt. Avenell Road\,\, London\, N5 1FE\, United Kingdom
CATEGORIES:Aroma Yoga
END:VEVENT
END:VCALENDAR